BEGIN:VCALENDAR
VERSION:2.0
PRODID:-//Contratero//ES
CALSCALE:GREGORIAN
METHOD:PUBLISH
BEGIN:VEVENT
UID:EXP 2018-35@contratero.es
DTSTAMP:20260421T071651Z
DTSTART:20190118T235959
DTEND:20190119T005959
SUMMARY:Cierre: Contratación de un Servicio de Hosting de aplicaci
DESCRIPTION:Contratación de un Servicio de Hosting de aplicaciones desarrolladas con la librería SHINY para FISABIO.\\n\\nOrganismo: Gerencia de la Fundación para el Fomento de la Investigación Sanitaria y Biomédica de la Comunitat Valenciana (FISABIO)\\n\\nVer en Contratero: https://contratero.es/contracts/EXP 2018-35
URL:https://contratero.es/contracts/EXP 2018-35
STATUS:CONFIRMED
BEGIN:VALARM
TRIGGER:-P1D
ACTION:DISPLAY
DESCRIPTION:Recordatorio: Contratación de un Servicio de
END:VALARM
END:VEVENT
END:VCALENDAR